BEGIN:VCALENDAR
VERSION:2.0
PRODID:Greensboro, NC Calendar Creator
METHOD:PUBLISH
BEGIN:VEVENT
DTSTAMP:20180109T031834
DTSTART:20110913T160000
DTEND:20110913T170000
SUMMARY:Books & More Book Club
DESCRIPTION:Enjoy literature, art activities, and more; for grades K-3 and 4-8.
X-ALT-DESC;FMTTYPE=text/html:Enjoy literature, art activities, and more; for grades K-3 and 4-8.
LOCATION:Hemphill Branch Library\, 2301 West Vandalia Road Greensboro\, North Carolina 27407
CLASS:PUBLIC
END:VEVENT
END:VCALENDAR
