BEGIN:VCALENDAR
VERSION:2.0
PRODID:Greensboro, NC Calendar Creator
METHOD:PUBLISH
BEGIN:VEVENT
DTSTAMP:20180109T031834
DTSTART:20110911T080000
DTEND:20110911T180000
SUMMARY:Carolina Cup Bicycle Race 
DESCRIPTION:This exciting event is North Carolina&rsquo;s oldest bicycle race, attracting top athletes from throughout the region. Races will include categories for all ages, children though senior citizens. Parking will be available at Jaycee Park, off Pisgah Church Road.
X-ALT-DESC;FMTTYPE=text/html:This exciting event is North Carolina&rsquo;s oldest bicycle race, attracting top athletes from throughout the region. Races will include categories for all ages, children though senior citizens. Parking will be available at Jaycee Park, off Pisgah Church Road.
LOCATION:Country Park\, 3902 Nathanael Greene Drive Greensboro\, North Carolina 
CLASS:PUBLIC
END:VEVENT
END:VCALENDAR
