BEGIN:VCALENDAR
VERSION:2.0
PRODID:Greensboro, NC Calendar Creator
METHOD:PUBLISH
BEGIN:VEVENT
DTSTAMP:20180109T031834
DTSTART:20110910T140000
DTEND:20110910T160000
SUMMARY:Introduction to Microsoft Word 2010
DESCRIPTION:Whether you're preparing a resume, letter, or term paper, Word is the tool for you.&nbsp;This informative class teaches you how to format and size text, indent, center, create lists, insert symbols, cut and paste, and more.
X-ALT-DESC;FMTTYPE=text/html:Whether you're preparing a resume, letter, or term paper, Word is the tool for you.&nbsp;This informative class teaches you how to format and size text, indent, center, create lists, insert symbols, cut and paste, and more.
LOCATION:Central Library\, 219 N. Church St. Greensboro\, North Carolina 27401
CLASS:PUBLIC
END:VEVENT
END:VCALENDAR
