BEGIN:VCALENDAR
VERSION:2.0
PRODID:Greensboro, NC Calendar Creator
METHOD:PUBLISH
BEGIN:VEVENT
DTSTAMP:20180109T031834
DTSTART:20110921T100000
DTEND:20110922T115900
SUMMARY:Introduction to the Internet
DESCRIPTION:Grab a keyboard and get ready to surf!&nbsp;Learn what the Internet is, what the main features on Microsoft Explorer are, how to connect to the Internet, and how to search for information on it.
X-ALT-DESC;FMTTYPE=text/html:Grab a keyboard and get ready to surf!&nbsp;Learn what the Internet is, what the main features on Microsoft Explorer are, how to connect to the Internet, and how to search for information on it.
LOCATION:Central Library\, 219 N. Church St. Greensboro\, North Carolina 27401
CLASS:PUBLIC
END:VEVENT
END:VCALENDAR
