BEGIN:VCALENDAR
VERSION:2.0
PRODID:Greensboro, NC Calendar Creator
METHOD:PUBLISH
BEGIN:VEVENT
DTSTAMP:20180109T031834
DTSTART:20110827T120000
DTEND:20110827T150000
SUMMARY:Surplus Auction
DESCRIPTION:Police surplus, seized, and confiscated items will be sold&nbsp;to the public during this&nbsp;live on-site auction. Online&nbsp;bidding is also available on&nbsp;<a href="http://www.proxibid.com" target="_self" shape="rect">this website</a>. For a detailed list of items for this sale, <a href="http://www.mendenhallauction.com" target="_self" shape="rect">visit this site</a>. You may also contact Mendenhall Auction Company at 336-889-5700 for additional information or questions pertaining to the sale and for online bidding.
X-ALT-DESC;FMTTYPE=text/html:Police surplus, seized, and confiscated items will be sold&nbsp;to the public during this&nbsp;live on-site auction. Online&nbsp;bidding is also available on&nbsp;<a href="http://www.proxibid.com" target="_self" shape="rect">this website</a>. For a detailed list of items for this sale, <a href="http://www.mendenhallauction.com" target="_self" shape="rect">visit this site</a>. You may also contact Mendenhall Auction Company at 336-889-5700 for additional information or questions pertaining to the sale and for online bidding.
LOCATION:Mendenhall Auto Auction\, 6695 Auction Road Archdale\, North Carolina 27263
CLASS:PUBLIC
END:VEVENT
END:VCALENDAR
