BEGIN:VCALENDAR
VERSION:2.0
PRODID:Greensboro, NC Calendar Creator
METHOD:PUBLISH
BEGIN:VEVENT
DTSTAMP:20180109T031834
DTSTART:20110926T173000
DTEND:20110926T190000
SUMMARY:Neighborhood Walk - District 1
DESCRIPTION:The walk is&nbsp;part of the City&rsquo;s Neighborhood Walks Program, which aims to provide opportunities for community leaders and residents to discuss issues important to them with the City&rsquo;s executive team.&nbsp;Review this walk's <a href="https://greensboro2.prod-as.govaccess.org/home/showpublisheddocument/11090/636510647144300000" target="_blank">route map</a>.
X-ALT-DESC;FMTTYPE=text/html:The walk is&nbsp;part of the City&rsquo;s Neighborhood Walks Program, which aims to provide opportunities for community leaders and residents to discuss issues important to them with the City&rsquo;s executive team.&nbsp;Review this walk's <a href="https://greensboro2.prod-as.govaccess.org/home/showpublisheddocument/11090/636510647144300000" target="_blank">route map</a>.
LOCATION:Good News Baptist Church\, 2400 McConnell Rd. Greensboro\, North Carolina 
CLASS:PUBLIC
END:VEVENT
END:VCALENDAR
