BEGIN:VCALENDAR
VERSION:2.0
PRODID:Greensboro, NC Calendar Creator
METHOD:PUBLISH
BEGIN:VEVENT
DTSTAMP:20180109T031834
DTSTART:20110818T150000
DTEND:20110818T170000
SUMMARY:Community Resource Board Meeting - Canceled
DESCRIPTION:
X-ALT-DESC;FMTTYPE=text/html:
LOCATION:Melvin Municipal Office Building\, 300 W. Washington Street Greensboro\, North Carolina 
CLASS:PUBLIC
END:VEVENT
END:VCALENDAR
