BEGIN:VCALENDAR
VERSION:2.0
PRODID:Greensboro, NC Calendar Creator
METHOD:PUBLISH
BEGIN:VEVENT
DTSTAMP:20180109T031834
DTSTART:20110920T173000
DTEND:20110920T210000
SUMMARY:City Council Meeting
DESCRIPTION:
X-ALT-DESC;FMTTYPE=text/html:
LOCATION:Council Chamber\, Melvin Municipal Office Building\, 300 W. Washington St. Greensboro\, North Carolina 27402
CLASS:PUBLIC
END:VEVENT
END:VCALENDAR
