BEGIN:VCALENDAR
VERSION:2.0
PRODID:Greensboro, NC Calendar Creator
METHOD:PUBLISH
BEGIN:VEVENT
DTSTAMP:20180109T031834
DTSTART:20111003T101500
DTEND:20111003T113000
SUMMARY:Monday Morning Forum
DESCRIPTION:A literary discussion group alternating readings of short stories, essays, travel, and food writing. <br />Every Monday, Sept. to May.
X-ALT-DESC;FMTTYPE=text/html:A literary discussion group alternating readings of short stories, essays, travel, and food writing. <br />Every Monday, Sept. to May.
LOCATION:Central Library\, 219 N. Church Street Greensboro\, North Carolina 27401
CLASS:PUBLIC
END:VEVENT
END:VCALENDAR
