BEGIN:VCALENDAR
VERSION:2.0
PRODID:Greensboro, NC Calendar Creator
METHOD:PUBLISH
BEGIN:VEVENT
DTSTAMP:20180109T031834
DTSTART:20110912T103000
DTEND:20110912T113000
SUMMARY:Little Gym at the Library
DESCRIPTION:Special story time and presentation by the Little Gym.
X-ALT-DESC;FMTTYPE=text/html:Special story time and presentation by the Little Gym.
LOCATION:Central Library\, 219 N. Church St. Greensboro\, North Carolina 27401
CLASS:PUBLIC
END:VEVENT
END:VCALENDAR
