BEGIN:VCALENDAR
VERSION:2.0
PRODID:Greensboro, NC Calendar Creator
METHOD:PUBLISH
BEGIN:VEVENT
DTSTAMP:20180109T031834
DTSTART:20110924T140000
DTEND:20110924T150000
SUMMARY:Saturday Movie Matinee
DESCRIPTION:All ages can enjoy "Librarian's Choice" movies.
X-ALT-DESC;FMTTYPE=text/html:All ages can enjoy "Librarian's Choice" movies.
LOCATION:Central Library\, 219 N. Church St Greensboro\, North Carolina 27401
CLASS:PUBLIC
END:VEVENT
END:VCALENDAR
