BEGIN:VCALENDAR
VERSION:2.0
PRODID:Greensboro, NC Calendar Creator
METHOD:PUBLISH
BEGIN:VEVENT
DTSTAMP:20180109T031834
DTSTART:20111011T184500
DTEND:20111011T191500
SUMMARY:Story Time at Glenwood Branch Library
DESCRIPTION:<strong>Leamos / Let's Read:</strong> Join us for a special bilingual story time that is&nbsp;fun for the whole family with stories, rhymes, a short film and a craft featuring English and Spanish vocabulary.
X-ALT-DESC;FMTTYPE=text/html:<strong>Leamos / Let's Read:</strong> Join us for a special bilingual story time that is&nbsp;fun for the whole family with stories, rhymes, a short film and a craft featuring English and Spanish vocabulary.
LOCATION:Glenwood Branch Library\, 1901 West Florida Street Greensboro\, North Carolina 27403
CLASS:PUBLIC
END:VEVENT
END:VCALENDAR
