BEGIN:VCALENDAR
VERSION:2.0
PRODID:Greensboro, NC Calendar Creator
METHOD:PUBLISH
BEGIN:VEVENT
DTSTAMP:20180109T031834
DTSTART:20110817T103000
DTEND:20110817T111500
SUMMARY:Story Time at Glenwood Branch Library
DESCRIPTION:<strong>Dinosaurs are Dino-mite:</strong> Join us for a toddler and preschool story time with stories, rhymes, a short film and a craft about dinosaurs.
X-ALT-DESC;FMTTYPE=text/html:<strong>Dinosaurs are Dino-mite:</strong> Join us for a toddler and preschool story time with stories, rhymes, a short film and a craft about dinosaurs.
LOCATION:Glenwood Branch Library\, 1901 West Florida Street Greensboro\, North Carolina 27403
CLASS:PUBLIC
END:VEVENT
END:VCALENDAR
