BEGIN:VCALENDAR
VERSION:2.0
PRODID:Greensboro, NC Calendar Creator
METHOD:PUBLISH
BEGIN:VEVENT
DTSTAMP:20180109T031834
DTSTART:20110927T184500
DTEND:20110927T191500
SUMMARY:Story Time at Glenwood Branch Library
DESCRIPTION:<strong>Fall is Autumn is Fall:</strong> Join us for a story time that is&nbsp;fun for the whole family with stories, rhymes, a short film and a craft about the glorious season of fall.
X-ALT-DESC;FMTTYPE=text/html:<strong>Fall is Autumn is Fall:</strong> Join us for a story time that is&nbsp;fun for the whole family with stories, rhymes, a short film and a craft about the glorious season of fall.
LOCATION:Glenwood Branch Library\, 1901 West Florida Street Greensboro\, North Carolina 27403
CLASS:PUBLIC
END:VEVENT
END:VCALENDAR
