BEGIN:VCALENDAR
VERSION:2.0
PRODID:Greensboro, NC Calendar Creator
METHOD:PUBLISH
BEGIN:VEVENT
DTSTAMP:20180109T031834
DTSTART:20110914T160000
DTEND:20110914T174500
SUMMARY:After School Movie
DESCRIPTION:Break your "Bieber Fever!" Rated G, 105 min, 2011.
X-ALT-DESC;FMTTYPE=text/html:Break your "Bieber Fever!" Rated G, 105 min, 2011.
LOCATION:Vance H. Chavis Branch\, 900 S. Benbow Road Greensboro\, North Carolina 27406
CLASS:PUBLIC
END:VEVENT
END:VCALENDAR
