BEGIN:VCALENDAR
VERSION:2.0
PRODID:Greensboro, NC Calendar Creator
METHOD:PUBLISH
BEGIN:VEVENT
DTSTAMP:20180109T031834
DTSTART:20110907T153000
DTEND:20110907T163000
SUMMARY:Eid Al-Fitr
DESCRIPTION:Eid Al-Fitr Festival after Ramadan features stories, creative activities, cultural displays and a tasty treat. For school-age children.
X-ALT-DESC;FMTTYPE=text/html:Eid Al-Fitr Festival after Ramadan features stories, creative activities, cultural displays and a tasty treat. For school-age children.
LOCATION:Kathleen Clay Edwards Library\, 1420 Price Park Rd. Greensboro\, North Carolina 27410
CLASS:PUBLIC
END:VEVENT
END:VCALENDAR
