BEGIN:VCALENDAR
VERSION:2.0
PRODID:Greensboro, NC Calendar Creator
METHOD:PUBLISH
BEGIN:VEVENT
DTSTAMP:20180109T031834
DTSTART:20110926T190000
DTEND:20110926T200000
SUMMARY:Astronomy Night
DESCRIPTION:Stan Rosenberg with the Greensboro Astronomy Club will lead a telescope viewing of constellations and double-stars, program held rain or shine.
X-ALT-DESC;FMTTYPE=text/html:Stan Rosenberg with the Greensboro Astronomy Club will lead a telescope viewing of constellations and double-stars, program held rain or shine.
LOCATION:Kathleen Clay Edwards  Library\, 1420 Price Park Rd. Greensboro\, North Carolina 27408
CLASS:PUBLIC
END:VEVENT
END:VCALENDAR
