BEGIN:VCALENDAR
VERSION:2.0
PRODID:Greensboro, NC Calendar Creator
METHOD:PUBLISH
BEGIN:VEVENT
DTSTAMP:20180109T031834
DTSTART:20110926T130000
DTEND:20110926T133000
SUMMARY:Story Time at Kathleen Clay Library
DESCRIPTION:Dinosaur Roar - Stories, finger plays and short movies for ages 1 - 5.
X-ALT-DESC;FMTTYPE=text/html:Dinosaur Roar - Stories, finger plays and short movies for ages 1 - 5.
LOCATION:Kathleen Clay Library\, 1420 Price Park Rd. Greensboro\, North Carolina 27410
CLASS:PUBLIC
END:VEVENT
END:VCALENDAR
