BEGIN:VCALENDAR
VERSION:2.0
PRODID:Greensboro, NC Calendar Creator
METHOD:PUBLISH
BEGIN:VEVENT
DTSTAMP:20180109T031834
DTSTART:20110921T093000
DTEND:20110921T100000
SUMMARY:Story Time at Kathleen Clay Library
DESCRIPTION:Cowboys and Cowgirls - Stories, finger plays and short movies for ages 1-5 at 9:30 am, 10:30 am, and 11:30 am.
X-ALT-DESC;FMTTYPE=text/html:Cowboys and Cowgirls - Stories, finger plays and short movies for ages 1-5 at 9:30 am, 10:30 am, and 11:30 am.
LOCATION:Kathleen Clay Library\, 1420 Price Park Rd. Greensboro\, North Carolina 27410
CLASS:PUBLIC
END:VEVENT
END:VCALENDAR
