BEGIN:VCALENDAR
VERSION:2.0
PRODID:Greensboro, NC Calendar Creator
METHOD:PUBLISH
BEGIN:VEVENT
DTSTAMP:20180109T031834
DTSTART:20110919T190000
DTEND:20110919T210000
SUMMARY:Monday Night Poetry
DESCRIPTION:<strong class="subtitle">Open Mic session</strong> - celebrating rhythm and rhyme every third Monday. This program is sponsored by the Friends of the Greensboro Public Library.&nbsp;For more information, see <a href="http://www.meetup.com/triadpoetry/calendar/" target="_self"><span style="color: #4a7e9e;">Triad Poetry Meet Up Website</span></a>. For questions, contact <a href="mailto:&#98;&#101;&#116;&#104;&#46;&#115;&#104;&#101;&#102;&#102;&#105;&#101;&#108;&#100;&#64;&#103;&#114;&#101;&#101;&#110;&#115;&#98;&#111;&#114;&#111;&#45;&#110;&#99;&#46;&#103;&#111;&#118;&#63;&#115;&#117;&#98;&#106;&#101;&#99;&#116;&#61;&#105;&#110;&#102;&#111;&#37;20&#97;&#98;&#111;&#117;&#116;&#37;20&#109;&#111;&#110;&#100;&#97;&#121;&#37;20&#110;&#105;&#103;&#104;&#116;&#37;20&#112;&#111;&#101;&#116;&#114;&#121;">Beth Sheffield</a>&nbsp;or call 336-373-3617.&nbsp;<br />
X-ALT-DESC;FMTTYPE=text/html:<strong class="subtitle">Open Mic session</strong> - celebrating rhythm and rhyme every third Monday. This program is sponsored by the Friends of the Greensboro Public Library.&nbsp;For more information, see <a href="http://www.meetup.com/triadpoetry/calendar/" target="_self"><span style="color: #4a7e9e;">Triad Poetry Meet Up Website</span></a>. For questions, contact <a href="mailto:&#98;&#101;&#116;&#104;&#46;&#115;&#104;&#101;&#102;&#102;&#105;&#101;&#108;&#100;&#64;&#103;&#114;&#101;&#101;&#110;&#115;&#98;&#111;&#114;&#111;&#45;&#110;&#99;&#46;&#103;&#111;&#118;&#63;&#115;&#117;&#98;&#106;&#101;&#99;&#116;&#61;&#105;&#110;&#102;&#111;&#37;20&#97;&#98;&#111;&#117;&#116;&#37;20&#109;&#111;&#110;&#100;&#97;&#121;&#37;20&#110;&#105;&#103;&#104;&#116;&#37;20&#112;&#111;&#101;&#116;&#114;&#121;">Beth Sheffield</a>&nbsp;or call 336-373-3617.&nbsp;<br />
LOCATION:Central Library\, 219 N. Church Street Greensboro\, North Carolina 27401
CLASS:PUBLIC
END:VEVENT
END:VCALENDAR
