BEGIN:VCALENDAR
VERSION:2.0
PRODID:Greensboro, NC Calendar Creator
METHOD:PUBLISH
BEGIN:VEVENT
DTSTAMP:20180109T031834
DTSTART:20110915T193000
DTEND:20110915T210000
SUMMARY:Triad Storytelling Exchange 
DESCRIPTION:<p><span><strong>Learn about the art of storytelling.</strong></span> We offer a supportive, non-competitive environment where newcomers can try out storytelling, just listen,&nbsp;or hear professionals&nbsp;practicing new material&nbsp;and asking for audience feed back. Join us for a monthly gathering of story&nbsp;lovers on the third Thursday evening&nbsp;at 7:30 pm in the CityArts Conference Room. (Enter the building from the lower level near the Church Street parking deck; the City Arts office space is on the left past the stairwell,&nbsp;and the conference room is at the end of the the hallway.) This program is co-sponsored by the Greensboro Public Library, CityArts/Greensboro Parks and Recreation, and&nbsp;NC Storyfest Inc. </p><p><strong>Join our</strong> <a href="http://www.meetup.com/ncstorytelling/" target="_self">Triad Storytelling MeetUp Group</a>.&nbsp;<br /><strong>For more information, contact</strong> <a href="mailto:&#98;&#101;&#116;&#104;&#46;&#115;&#104;&#101;&#102;&#102;&#105;&#101;&#108;&#100;&#64;&#103;&#114;&#101;&#101;&#110;&#115;&#98;&#111;&#114;&#111;&#45;&#110;&#99;&#46;&#103;&#111;&#118;&#63;&#115;&#117;&#98;&#106;&#101;&#99;&#116;&#61;&#105;&#110;&#102;&#111;&#37;20&#97;&#98;&#111;&#117;&#116;&#37;20&#84;&#114;&#105;&#97;&#100;&#37;20&#83;&#116;&#111;&#114;&#121;&#116;&#101;&#108;&#108;&#105;&#110;&#103;&#37;20&#69;&#120;&#99;&#104;&#97;&#110;&#103;&#101;">Beth Sheffield</a>.&nbsp;&nbsp;</p>
X-ALT-DESC;FMTTYPE=text/html:<p><span><strong>Learn about the art of storytelling.</strong></span> We offer a supportive, non-competitive environment where newcomers can try out storytelling, just listen,&nbsp;or hear professionals&nbsp;practicing new material&nbsp;and asking for audience feed back. Join us for a monthly gathering of story&nbsp;lovers on the third Thursday evening&nbsp;at 7:30 pm in the CityArts Conference Room. (Enter the building from the lower level near the Church Street parking deck; the City Arts office space is on the left past the stairwell,&nbsp;and the conference room is at the end of the the hallway.) This program is co-sponsored by the Greensboro Public Library, CityArts/Greensboro Parks and Recreation, and&nbsp;NC Storyfest Inc. </p><p><strong>Join our</strong> <a href="http://www.meetup.com/ncstorytelling/" target="_self">Triad Storytelling MeetUp Group</a>.&nbsp;<br /><strong>For more information, contact</strong> <a href="mailto:&#98;&#101;&#116;&#104;&#46;&#115;&#104;&#101;&#102;&#102;&#105;&#101;&#108;&#100;&#64;&#103;&#114;&#101;&#101;&#110;&#115;&#98;&#111;&#114;&#111;&#45;&#110;&#99;&#46;&#103;&#111;&#118;&#63;&#115;&#117;&#98;&#106;&#101;&#99;&#116;&#61;&#105;&#110;&#102;&#111;&#37;20&#97;&#98;&#111;&#117;&#116;&#37;20&#84;&#114;&#105;&#97;&#100;&#37;20&#83;&#116;&#111;&#114;&#121;&#116;&#101;&#108;&#108;&#105;&#110;&#103;&#37;20&#69;&#120;&#99;&#104;&#97;&#110;&#103;&#101;">Beth Sheffield</a>.&nbsp;&nbsp;</p>
LOCATION:CityArts Conference Room\, Greensboro Cultural Center\, 200 N. Davie Street Greensboro\, North Carolina 27401
CLASS:PUBLIC
END:VEVENT
END:VCALENDAR
