BEGIN:VCALENDAR
VERSION:2.0
PRODID:Greensboro, NC Calendar Creator
METHOD:PUBLISH
BEGIN:VEVENT
DTSTAMP:20180109T031834
DTSTART:20110914T153000
DTEND:20110914T163000
SUMMARY:Garden Contest
DESCRIPTION:Join us for this fun program of planting flowers, and art and literature items&nbsp;in the library's gardens. Also, enter a contest for the best garden plot, which will be&nbsp;voted on by library users.&nbsp;&nbsp;
X-ALT-DESC;FMTTYPE=text/html:Join us for this fun program of planting flowers, and art and literature items&nbsp;in the library's gardens. Also, enter a contest for the best garden plot, which will be&nbsp;voted on by library users.&nbsp;&nbsp;
LOCATION:Kathleen Clay Edwards Library\, 1420 Price Park Rd. Greensboro\, North Carolina 27408
CLASS:PUBLIC
END:VEVENT
END:VCALENDAR
