BEGIN:VCALENDAR
VERSION:2.0
PRODID:Greensboro, NC Calendar Creator
METHOD:PUBLISH
BEGIN:VEVENT
DTSTAMP:20180109T031834
DTSTART:20110910T093000
DTEND:20110910T100000
SUMMARY:Musikgarten Music for Young Children
DESCRIPTION:Gate City Musikgarten will lead a participatory music-making program for parents and their children with&nbsp;singing and moving to music.&nbsp;For ages 1 - 4. Program repeats&nbsp;at&nbsp;10:15 am.
X-ALT-DESC;FMTTYPE=text/html:Gate City Musikgarten will lead a participatory music-making program for parents and their children with&nbsp;singing and moving to music.&nbsp;For ages 1 - 4. Program repeats&nbsp;at&nbsp;10:15 am.
LOCATION:Kathleen Clay Edwards Library\, 1420 Price Park Rd. Greensboro\, North Carolina 27410
CLASS:PUBLIC
END:VEVENT
END:VCALENDAR
