BEGIN:VCALENDAR
VERSION:2.0
PRODID:Greensboro, NC Calendar Creator
METHOD:PUBLISH
BEGIN:VEVENT
DTSTAMP:20180109T031834
DTSTART:20110901T190000
DTEND:20110901T203000
SUMMARY:Teen Game Night
DESCRIPTION:Come out to enjoy your favorite games!
X-ALT-DESC;FMTTYPE=text/html:Come out to enjoy your favorite games!
LOCATION:Vance H. Chavis Branch\, 900 S. Benbow Road Greensboro\, North Carolina 27406
CLASS:PUBLIC
END:VEVENT
END:VCALENDAR
