BEGIN:VCALENDAR
VERSION:2.0
PRODID:Greensboro, NC Calendar Creator
METHOD:PUBLISH
BEGIN:VEVENT
DTSTAMP:20180109T031834
DTSTART:20120123T190000
DTEND:20120123T210000
SUMMARY:Monday Night Poetry
DESCRIPTION:<strong class="subtitle">Open Mic Session</strong> - Celebrating rhythm and rhyme every third Monday. This program is sponsored by the Friends of the Greensboro Public Library. For more information, see <a href="http://www.meetup.com/triadpoetry/calendar/" target="_self" shape="rect"><span style="color: #4a7e9e;">Triad Poetry Meet Up Website</span></a>. For questions, contact <a href="mailto:beth.sheffield@greensboro-nc.gov?subject=info%20about%20monday%20night%20poetry" shape="rect">Beth Sheffield</a>&nbsp;or call 336-373-3617.&nbsp;<br />
X-ALT-DESC;FMTTYPE=text/html:<strong class="subtitle">Open Mic Session</strong> - Celebrating rhythm and rhyme every third Monday. This program is sponsored by the Friends of the Greensboro Public Library. For more information, see <a href="http://www.meetup.com/triadpoetry/calendar/" target="_self" shape="rect"><span style="color: #4a7e9e;">Triad Poetry Meet Up Website</span></a>. For questions, contact <a href="mailto:beth.sheffield@greensboro-nc.gov?subject=info%20about%20monday%20night%20poetry" shape="rect">Beth Sheffield</a>&nbsp;or call 336-373-3617.&nbsp;<br />
LOCATION:Central Library\, 219 N. Church Street Greensboro\, North Carolina 27401
CLASS:PUBLIC
END:VEVENT
END:VCALENDAR
