BEGIN:VCALENDAR
VERSION:2.0
PRODID:Greensboro, NC Calendar Creator
METHOD:PUBLISH
BEGIN:VEVENT
DTSTAMP:20180109T031834
DTSTART:20110828T150000
DTEND:20110828T170000
SUMMARY:"Going Global" Book Group
DESCRIPTION:Are you interested in learning about the world and other cultures? Join us! We are globally minded people reading interesting books from around the world. This month we discuss <em>The Lacuna</em> by Barbara Kingsolver.
X-ALT-DESC;FMTTYPE=text/html:Are you interested in learning about the world and other cultures? Join us! We are globally minded people reading interesting books from around the world. This month we discuss <em>The Lacuna</em> by Barbara Kingsolver.
LOCATION:Central Library\, 219 N. Church Street Greensboro\, North Carolina 27401
CLASS:PUBLIC
END:VEVENT
END:VCALENDAR
