BEGIN:VCALENDAR
VERSION:2.0
PRODID:Greensboro, NC Calendar Creator
METHOD:PUBLISH
BEGIN:VEVENT
DTSTAMP:20180109T031834
DTSTART:20110828T140000
DTEND:20110828T160000
SUMMARY:Knights of Vandalia Chess Club
DESCRIPTION:All skill levels are welcome and the class is open to children as young as six-years-old. To learn more about participating or volunteering, please e-mail&nbsp;<a href="mailto:cynthia.dye@greensboro-nc.gov?subject=chess%20Club" shape="rect">Cindy Dye</a> or call 336-373-2925. <br />
X-ALT-DESC;FMTTYPE=text/html:All skill levels are welcome and the class is open to children as young as six-years-old. To learn more about participating or volunteering, please e-mail&nbsp;<a href="mailto:cynthia.dye@greensboro-nc.gov?subject=chess%20Club" shape="rect">Cindy Dye</a> or call 336-373-2925. <br />
LOCATION:Hemphil Branch Library\, 2301 West Vandalia Rd Greensboro\, North Carolina 27407
CLASS:PUBLIC
END:VEVENT
END:VCALENDAR
