BEGIN:VCALENDAR
VERSION:2.0
PRODID:Greensboro, NC Calendar Creator
METHOD:PUBLISH
BEGIN:VEVENT
DTSTAMP:20180109T031834
DTSTART:20110825T190000
DTEND:20110825T200000
SUMMARY:Literati Society
DESCRIPTION:Discussing <strong><em>The Tiger's Wife</em></strong> by Tea Obreht.
X-ALT-DESC;FMTTYPE=text/html:Discussing <strong><em>The Tiger's Wife</em></strong> by Tea Obreht.
LOCATION:Hemphill Branch Library\, 2301 West Vandalia Rd Greensboro\, North Carolina 27407
CLASS:PUBLIC
END:VEVENT
END:VCALENDAR
