BEGIN:VCALENDAR
VERSION:2.0
PRODID:Greensboro, NC Calendar Creator
METHOD:PUBLISH
BEGIN:VEVENT
DTSTAMP:20180109T031834
DTSTART:20110823T120000
DTEND:20110823T130000
SUMMARY:Northeast Book Discussion Group
DESCRIPTION:Discussing <em>The Lemon Tree</em> by Sandy Tolan.&nbsp;For more information, contact <a href="mailto:marilyn.waddell@greensboro-nc.gov?subject=Northeast%20Book%20Discussion%20Group" shape="rect">Marilyn Waddell</a>.
X-ALT-DESC;FMTTYPE=text/html:Discussing <em>The Lemon Tree</em> by Sandy Tolan.&nbsp;For more information, contact <a href="mailto:marilyn.waddell@greensboro-nc.gov?subject=Northeast%20Book%20Discussion%20Group" shape="rect">Marilyn Waddell</a>.
LOCATION:Benjamin Branch\, 1530 Benjamin Branch Parkway Greensboro\, North Carolina 27408
CLASS:PUBLIC
END:VEVENT
END:VCALENDAR
