BEGIN:VCALENDAR
VERSION:2.0
PRODID:Greensboro, NC Calendar Creator
METHOD:PUBLISH
BEGIN:VEVENT
DTSTAMP:20180109T031834
DTSTART:20110912T173000
DTEND:20110912T193000
SUMMARY:GTA Fare Change Public Meeting
DESCRIPTION:The Board of the Greensboro Transit Authority will consider changes in the fares and costs of passes for using GTA and SCAT services. Public meetings for riders and community members are being held to share their thoughts&nbsp;and gather input.&nbsp;Please attend one&nbsp;or more of the meetings at your convenience.&nbsp;
X-ALT-DESC;FMTTYPE=text/html:The Board of the Greensboro Transit Authority will consider changes in the fares and costs of passes for using GTA and SCAT services. Public meetings for riders and community members are being held to share their thoughts&nbsp;and gather input.&nbsp;Please attend one&nbsp;or more of the meetings at your convenience.&nbsp;
LOCATION:J. Douglas Galyon Depot West Concourse (next to Amtrak)\, 236 E. Washington Street Greensboro\, North Carolina 27401
CLASS:PUBLIC
END:VEVENT
END:VCALENDAR
