BEGIN:VCALENDAR
VERSION:2.0
PRODID:Greensboro, NC Calendar Creator
METHOD:PUBLISH
BEGIN:VEVENT
DTSTAMP:20180109T031834
DTSTART:20110823T173000
DTEND:20110823T180000
SUMMARY:Fixed Route Service Change Public Hearing
DESCRIPTION:Greensboro Transit Authority is holding&nbsp;a public hearing&nbsp;to receive input regarding a proposal for changes to the transit network in the City. The proposal includes streamlined routes along major travel corridors that do not wind through residential neighborhoods, direct connections to important destinations to reduce the need to travel downtown, and new transfer points outside of downtown. Please refer to the attached for more details.<br /><br />
X-ALT-DESC;FMTTYPE=text/html:Greensboro Transit Authority is holding&nbsp;a public hearing&nbsp;to receive input regarding a proposal for changes to the transit network in the City. The proposal includes streamlined routes along major travel corridors that do not wind through residential neighborhoods, direct connections to important destinations to reduce the need to travel downtown, and new transfer points outside of downtown. Please refer to the attached for more details.<br /><br />
LOCATION:Council Chamber\, Melvin Municipal Office Building (City Hall)\, 300 W. Washington Street Greensboro\, North Carolina 27401
CLASS:PUBLIC
END:VEVENT
END:VCALENDAR
