BEGIN:VCALENDAR
VERSION:2.0
PRODID:Greensboro, NC Calendar Creator
METHOD:PUBLISH
BEGIN:VEVENT
DTSTAMP:20180109T031834
DTSTART:20110815T173000
DTEND:20110815T190000
SUMMARY:Irving Park/Starmount Shuttle Public Meeting
DESCRIPTION:GTA is holding a public meeting to discuss the possible elimination of the Irving Park/Starmount Shuttle and Evening Career Express Services. Please attend to share your thoughts about the changes.
X-ALT-DESC;FMTTYPE=text/html:GTA is holding a public meeting to discuss the possible elimination of the Irving Park/Starmount Shuttle and Evening Career Express Services. Please attend to share your thoughts about the changes.
LOCATION:J. Douglas Galyon Depot West Concourse (next to Amtrak)\, 236 E. Washington Street Greensboro\, North Carolina 27401
CLASS:PUBLIC
END:VEVENT
END:VCALENDAR
