BEGIN:VCALENDAR
VERSION:2.0
PRODID:Greensboro, NC Calendar Creator
METHOD:PUBLISH
BEGIN:VEVENT
DTSTAMP:20180109T031834
DTSTART:20120423T170000
DTEND:20120423T183000
SUMMARY:How To Read A Poem (& Enjoy It!) 
DESCRIPTION:<p>Demystify poetry and give yourself a foundation to better appreciate&nbsp;it with this&nbsp;three-part series. Ellen Summers leads us on a quest to better understand this literary form. Brown bag dinners are welcome.&nbsp;&nbsp; </p><p>Today's session is titled "Sonnets: Brush up your Shakespeare."&nbsp;Learn more about the condensed language and lyrical structure of this form of poetry.</p>For Information, visit the <a href="http://www.meetup.com/triadpoetry/calendar/" target="_self" shape="rect"><span style="color: #4a7e9e;">Triad Poetry Meet Up Website</span></a>. Questions? Contact <a href="mailto:beth.sheffield@greensboro-nc.gov?subject=info%20about%20monday%20night%20poetry" shape="rect">Beth Sheffield</a>&nbsp;or call 336-373-3617.&nbsp;<br />
X-ALT-DESC;FMTTYPE=text/html:<p>Demystify poetry and give yourself a foundation to better appreciate&nbsp;it with this&nbsp;three-part series. Ellen Summers leads us on a quest to better understand this literary form. Brown bag dinners are welcome.&nbsp;&nbsp; </p><p>Today's session is titled "Sonnets: Brush up your Shakespeare."&nbsp;Learn more about the condensed language and lyrical structure of this form of poetry.</p>For Information, visit the <a href="http://www.meetup.com/triadpoetry/calendar/" target="_self" shape="rect"><span style="color: #4a7e9e;">Triad Poetry Meet Up Website</span></a>. Questions? Contact <a href="mailto:beth.sheffield@greensboro-nc.gov?subject=info%20about%20monday%20night%20poetry" shape="rect">Beth Sheffield</a>&nbsp;or call 336-373-3617.&nbsp;<br />
LOCATION:Central Library\, 219 N. Church Street Greensboro\, North Carolina 27401
CLASS:PUBLIC
END:VEVENT
END:VCALENDAR
