BEGIN:VCALENDAR
VERSION:2.0
PRODID:Greensboro, NC Calendar Creator
METHOD:PUBLISH
BEGIN:VEVENT
DTSTAMP:20180109T031834
DTSTART:20120502T103000
DTEND:20120502T113000
SUMMARY:Bilingual Storytime at Glenwood
DESCRIPTION:It's a Fiesta! Join us for a celebration in Spanish and English with stories, songs, and art. This is a preschool storytime for ages 2-5.
X-ALT-DESC;FMTTYPE=text/html:It's a Fiesta! Join us for a celebration in Spanish and English with stories, songs, and art. This is a preschool storytime for ages 2-5.
LOCATION:Glenwood Branch Library\, 1901 W Florida Street Greensboro\, North Carolina 27403
CLASS:PUBLIC
END:VEVENT
END:VCALENDAR
