BEGIN:VCALENDAR
VERSION:2.0
PRODID:Greensboro, NC Calendar Creator
METHOD:PUBLISH
BEGIN:VEVENT
DTSTAMP:20180109T031834
DTSTART:20120424T193000
DTEND:20120424T204500
SUMMARY:International Poetry Night
DESCRIPTION:Join the Glenwood Library ESOL Conversation Club as we share poetry from around the word! Bring a poem or two to share, or just listen as others share. Hearing poetry in other languages helps everyone see that poetry really is from the heart.
X-ALT-DESC;FMTTYPE=text/html:Join the Glenwood Library ESOL Conversation Club as we share poetry from around the word! Bring a poem or two to share, or just listen as others share. Hearing poetry in other languages helps everyone see that poetry really is from the heart.
LOCATION:Glenwood\, 1901 W Florida St Greensboro\, North Carolina 27403
CLASS:PUBLIC
END:VEVENT
END:VCALENDAR
