BEGIN:VCALENDAR
VERSION:2.0
PRODID:Greensboro, NC Calendar Creator
METHOD:PUBLISH
BEGIN:VEVENT
DTSTAMP:20180109T031834
DTSTART:20120410T150000
DTEND:20120410T170000
SUMMARY:Special City Council Work Session
DESCRIPTION:To receive information on capital improvement projects and the water and sewer budget.
X-ALT-DESC;FMTTYPE=text/html:To receive information on capital improvement projects and the water and sewer budget.
LOCATION:Plaza Level Conference Room\, Melvin Municipal Office Building\, 300 W. Washington St. Greensboro\, North Carolina 
CLASS:PUBLIC
END:VEVENT
END:VCALENDAR
