BEGIN:VCALENDAR
VERSION:2.0
PRODID:Greensboro, NC Calendar Creator
METHOD:PUBLISH
BEGIN:VEVENT
DTSTAMP:20180109T031834
DTSTART:20120409T180000
DTEND:20120409T193000
SUMMARY:Citywide Football Camp 
DESCRIPTION:Designed for youth ages 6-13, the camp covers&nbsp;fundamental drills and techniques in preparation for fall football season. For more information, contact Doug Brown, Trotter Center supervisor, at 336-373-2927. <br />
X-ALT-DESC;FMTTYPE=text/html:Designed for youth ages 6-13, the camp covers&nbsp;fundamental drills and techniques in preparation for fall football season. For more information, contact Doug Brown, Trotter Center supervisor, at 336-373-2927. <br />
LOCATION:Field 2\, Hester Park\, 3615 Deutzia St. Greensboro\, North Carolina 
CLASS:PUBLIC
END:VEVENT
END:VCALENDAR
