BEGIN:VCALENDAR
VERSION:2.0
PRODID:Greensboro, NC Calendar Creator
METHOD:PUBLISH
BEGIN:VEVENT
DTSTAMP:20180109T031834
DTSTART:20120404T114500
DTEND:20120404T134500
SUMMARY:Human Relations Commission Meeting
DESCRIPTION:The guest speaker for the meeting is Liz Seymour, executive director of the Interactive Resource Center. The Interactive Resource Center assists people who are homeless or facing homelessness.
X-ALT-DESC;FMTTYPE=text/html:The guest speaker for the meeting is Liz Seymour, executive director of the Interactive Resource Center. The Interactive Resource Center assists people who are homeless or facing homelessness.
LOCATION:Melvin Municipal Office Building\, 300 W. Washington St Greensboro\, North Carolina 27402
CLASS:PUBLIC
END:VEVENT
END:VCALENDAR
