BEGIN:VCALENDAR
VERSION:2.0
PRODID:Greensboro, NC Calendar Creator
METHOD:PUBLISH
BEGIN:VEVENT
DTSTAMP:20180109T031834
DTSTART:20120323T120000
DTEND:20120323T140000
SUMMARY:Special City Council Meeting
DESCRIPTION:Purpose of this meeting is&nbsp;adjourn to closed session to discuss personnel matters.
X-ALT-DESC;FMTTYPE=text/html:Purpose of this meeting is&nbsp;adjourn to closed session to discuss personnel matters.
LOCATION:North Carolina 
CLASS:PUBLIC
END:VEVENT
END:VCALENDAR
