BEGIN:VCALENDAR
VERSION:2.0
PRODID:Greensboro, NC Calendar Creator
METHOD:PUBLISH
BEGIN:VEVENT
DTSTAMP:20180109T031834
DTSTART:20120426T180000
DTEND:20120426T193000
SUMMARY:Living the Wild Life: Bird Nerds
DESCRIPTION:<span class="subtitle2">Come and <em>Live the Wild Life</em> with our environmental education series. This month's theme is Bird Nerds.</span> <br /><br />Join us for an easy walk while looking and listening for our feathered friends. Discover different types of birds and their habitats and learn to identify the ones in your own yard. Binoculars will be provided.<br /><br />There is no fee to participate, but please register ahead of time&nbsp;by calling 336-373-3816. For more information, visit <a href="http://www.greensboro-nc.gov/lakes" shape="rect">www.greensboro-nc.gov/lakes</a>.
X-ALT-DESC;FMTTYPE=text/html:<span class="subtitle2">Come and <em>Live the Wild Life</em> with our environmental education series. This month's theme is Bird Nerds.</span> <br /><br />Join us for an easy walk while looking and listening for our feathered friends. Discover different types of birds and their habitats and learn to identify the ones in your own yard. Binoculars will be provided.<br /><br />There is no fee to participate, but please register ahead of time&nbsp;by calling 336-373-3816. For more information, visit <a href="http://www.greensboro-nc.gov/lakes" shape="rect">www.greensboro-nc.gov/lakes</a>.
LOCATION:Lindley Recreation Center\, 2907 Springwood Drive Greensboro\, North Carolina 27403
CLASS:PUBLIC
END:VEVENT
END:VCALENDAR
