BEGIN:VCALENDAR
VERSION:2.0
PRODID:Greensboro, NC Calendar Creator
METHOD:PUBLISH
BEGIN:VEVENT
DTSTAMP:20180109T031834
DTSTART:20110817T140000
DTEND:20110817T235900
SUMMARY:Seniors’ Bowling League Meeting
DESCRIPTION:This is an organizational meeting for the Seniors&rsquo; Bowling League. Sponsored by the Greensboro Seniors&rsquo; Unit, the league is open to Greensboro and Guilford County seniors, ages 55 and over. League competition will begin on August 24 and continue each Wednesday afternoon through mid-May 2012. A partner is not required for seniors to attend the organizational meeting. Fees will be determined by the league members. <br /><br />For more information, contact Cindy Hipp at 336-375-2237.
X-ALT-DESC;FMTTYPE=text/html:This is an organizational meeting for the Seniors&rsquo; Bowling League. Sponsored by the Greensboro Seniors&rsquo; Unit, the league is open to Greensboro and Guilford County seniors, ages 55 and over. League competition will begin on August 24 and continue each Wednesday afternoon through mid-May 2012. A partner is not required for seniors to attend the organizational meeting. Fees will be determined by the league members. <br /><br />For more information, contact Cindy Hipp at 336-375-2237.
LOCATION:Triad Lanes\, 21 Oak Branch Dr. Greensboro\, North Carolina 
CLASS:PUBLIC
END:VEVENT
END:VCALENDAR
