BEGIN:VCALENDAR
VERSION:2.0
PRODID:Greensboro, NC Calendar Creator
METHOD:PUBLISH
BEGIN:VEVENT
DTSTAMP:20180109T031834
DTSTART:20110821T140000
DTEND:20110821T170000
SUMMARY:Community Wellness Extravaganza
DESCRIPTION:In partnership with the Greensboro Parks and Recreation Department, the Greensboro Medical Society hosts this event that features blood pressure, cholesterol, and asthma screenings, as well as health and nutritional information distribution.&nbsp;No pre-registration is required.
X-ALT-DESC;FMTTYPE=text/html:In partnership with the Greensboro Parks and Recreation Department, the Greensboro Medical Society hosts this event that features blood pressure, cholesterol, and asthma screenings, as well as health and nutritional information distribution.&nbsp;No pre-registration is required.
LOCATION:Simkins Indoor Sports Pavilion at Barber Park\, 1500 Dans Road Greensboro\, North Carolina 27401
CLASS:PUBLIC
END:VEVENT
END:VCALENDAR
