BEGIN:VCALENDAR
VERSION:2.0
PRODID:Greensboro, NC Calendar Creator
METHOD:PUBLISH
BEGIN:VEVENT
DTSTAMP:20180109T031834
DTSTART:20120425T153000
DTEND:20120425T163000
SUMMARY:Planting Poems
DESCRIPTION:Help us fill our garden with flowers, herbs, and vegetables to enjoy throughout spring, and enjoy some poems while we plant.
X-ALT-DESC;FMTTYPE=text/html:Help us fill our garden with flowers, herbs, and vegetables to enjoy throughout spring, and enjoy some poems while we plant.
LOCATION:Kathleen Clay Edwards Family Branch\, 1420 Price Park Rd. Greensboro\, North Carolina 27410
CLASS:PUBLIC
END:VEVENT
END:VCALENDAR
