BEGIN:VCALENDAR
VERSION:2.0
PRODID:Greensboro, NC Calendar Creator
METHOD:PUBLISH
BEGIN:VEVENT
DTSTAMP:20180109T031834
DTSTART:20120414T150000
DTEND:20120414T163000
SUMMARY:HB African American Literature Club
DESCRIPTION:&nbsp;Discussing&nbsp;<em>Lover&nbsp;Man&nbsp;</em>by Geneva Holliday.
X-ALT-DESC;FMTTYPE=text/html:&nbsp;Discussing&nbsp;<em>Lover&nbsp;Man&nbsp;</em>by Geneva Holliday.
LOCATION:Hemphill Branch Library\, 2301 West Vandalia Rd. Greensboro\, North Carolina 27407
CLASS:PUBLIC
END:VEVENT
END:VCALENDAR
