BEGIN:VCALENDAR
VERSION:2.0
PRODID:Greensboro, NC Calendar Creator
METHOD:PUBLISH
BEGIN:VEVENT
DTSTAMP:20180109T031834
DTSTART:20120403T153000
DTEND:20120403T160000
SUMMARY:Peter Rabbit Puppet Show 
DESCRIPTION:
X-ALT-DESC;FMTTYPE=text/html:
LOCATION:Kathleen Clay Edwards Library\, 1420 Price Park Rd. Greensboro\, North Carolina 27410
CLASS:PUBLIC
END:VEVENT
END:VCALENDAR
