BEGIN:VCALENDAR
VERSION:2.0
PRODID:Greensboro, NC Calendar Creator
METHOD:PUBLISH
BEGIN:VEVENT
DTSTAMP:20180109T031834
DTSTART:20120308T190000
DTEND:20120308T203000
SUMMARY:NC State Parks for the Birds
DESCRIPTION:Education specialist and birder Brian Bockhahn provides an exploration of state parks and their wildlife. The program is sponsored by the Audubon Society.
X-ALT-DESC;FMTTYPE=text/html:Education specialist and birder Brian Bockhahn provides an exploration of state parks and their wildlife. The program is sponsored by the Audubon Society.
LOCATION:Kathleen Clay Edwards Family Branch Library\, 1420 Price Park Rd. Greensboro\, North Carolina 27410
CLASS:PUBLIC
END:VEVENT
END:VCALENDAR
