BEGIN:VCALENDAR
VERSION:2.0
PRODID:Greensboro, NC Calendar Creator
METHOD:PUBLISH
BEGIN:VEVENT
DTSTAMP:20180109T031834
DTSTART:20120430T183000
DTEND:20120430T193000
SUMMARY:Games in the Garden
DESCRIPTION:Join us for some outdoor fun for the whole family (weather permitting).
X-ALT-DESC;FMTTYPE=text/html:Join us for some outdoor fun for the whole family (weather permitting).
LOCATION:Hemphill Branch Library\, 2301 West Vandalia Road Greensboro\, North Carolina 27407
CLASS:PUBLIC
END:VEVENT
END:VCALENDAR
