BEGIN:VCALENDAR
VERSION:2.0
PRODID:Greensboro, NC Calendar Creator
METHOD:PUBLISH
BEGIN:VEVENT
DTSTAMP:20180109T031834
DTSTART:20120425T133000
DTEND:20120425T150000
SUMMARY:Benchmark Book Discussion Club
DESCRIPTION:Today's discussion is about&nbsp;<em>The Lost Girls: Three Friends, Four</em> <em>Continents, One Unconventional Detour Around the World </em>by Jennifer Baggett, Holly C. Corbett, and Amanda Pressner.
X-ALT-DESC;FMTTYPE=text/html:Today's discussion is about&nbsp;<em>The Lost Girls: Three Friends, Four</em> <em>Continents, One Unconventional Detour Around the World </em>by Jennifer Baggett, Holly C. Corbett, and Amanda Pressner.
LOCATION:Hemphill Branch Library\, 2301 West Vandalia Road Greensboro\, North Carolina 27407
CLASS:PUBLIC
END:VEVENT
END:VCALENDAR
