BEGIN:VCALENDAR
VERSION:2.0
PRODID:Greensboro, NC Calendar Creator
METHOD:PUBLISH
BEGIN:VEVENT
DTSTAMP:20180109T031834
DTSTART:20120404T153000
DTEND:20120404T160000
SUMMARY:Windmills and Tulips - After School Adventure
DESCRIPTION:Windmills and Tulips - Travel to Holland and Belgium for stories of holding back the sea.&nbsp;Try Dutch cheeses and Delft art. For school-aged children.
X-ALT-DESC;FMTTYPE=text/html:Windmills and Tulips - Travel to Holland and Belgium for stories of holding back the sea.&nbsp;Try Dutch cheeses and Delft art. For school-aged children.
LOCATION:Kathleen Clay Edwards Library\, 1420 Price Park Rd. Greensboro\, North Carolina 27410
CLASS:PUBLIC
END:VEVENT
END:VCALENDAR
