BEGIN:VCALENDAR
VERSION:2.0
PRODID:Greensboro, NC Calendar Creator
METHOD:PUBLISH
BEGIN:VEVENT
DTSTAMP:20180109T031834
DTSTART:20120411T153000
DTEND:20120411T160000
SUMMARY:Library Week Extravaganza 
DESCRIPTION:Library Week Extravaganza - This book party features favorite stories, book art and crafts, and snacks from our stories. For school-aged children.
X-ALT-DESC;FMTTYPE=text/html:Library Week Extravaganza - This book party features favorite stories, book art and crafts, and snacks from our stories. For school-aged children.
LOCATION:Kathleen Clay Edwards Library\, 1420 Price Park Rd. Greensboro\, North Carolina 27410
CLASS:PUBLIC
END:VEVENT
END:VCALENDAR
